BEGIN:VCALENDAR
VERSION:2.0
PRODID:-//SEAIDA - ECPv6.13.2.1//NONSGML v1.0//EN
CALSCALE:GREGORIAN
METHOD:PUBLISH
X-ORIGINAL-URL:https://www.seaida.com
X-WR-CALDESC:Eventos para SEAIDA
REFRESH-INTERVAL;VALUE=DURATION:PT1H
X-Robots-Tag:noindex
X-PUBLISHED-TTL:PT1H
BEGIN:VTIMEZONE
TZID:Europe/Madrid
BEGIN:DAYLIGHT
TZOFFSETFROM:+0100
TZOFFSETTO:+0200
TZNAME:CEST
DTSTART:20260329T010000
END:DAYLIGHT
BEGIN:STANDARD
TZOFFSETFROM:+0200
TZOFFSETTO:+0100
TZNAME:CET
DTSTART:20261025T010000
END:STANDARD
END:VTIMEZONE
BEGIN:VEVENT
DTSTART;TZID=Europe/Madrid:20260528T090000
DTEND;TZID=Europe/Madrid:20260528T123000
DTSTAMP:20260421T144520
CREATED:20260421T082621Z
LAST-MODIFIED:20260421T112306Z
UID:10000012-1779958800-1779971400@www.seaida.com
SUMMARY:Jornada de Sostenibilidad y Complementariedad de los Sistemas Privados de Pensiones
DESCRIPTION:📍 Datos del evento \n🗓 Fecha: Jueves\, 28 de mayo de 2026\n🕙 Horario: 09:00h- 12:30h.\n📌 Lugar: Hogan Lovells International | Paseo de la Castellana\, 77 · Madrid.\n💻 Formato: Presencial
URL:https://www.seaida.com/evento/jornada-de-sostenibilidad-y-complementariedad-de-los-sistemas-privados-de-pensiones/
LOCATION:Hogan Lovells International\, Paseo de la Castellana 77\, Madrid\, Madrid\, 28046\, Spain
ORGANIZER;CN="SEAIDA":MAILTO:seaida@seaida.com
END:VEVENT
END:VCALENDAR